BEGIN:VCALENDAR
VERSION:2.0
PRODID:DPCALENDAR
CALSCALE:GREGORIAN
X-WR-TIMEZONE:UTC
BEGIN:VEVENT
DTSTART;VALUE=DATE:20150321
DTEND;VALUE=DATE:20150322
UID:f57901fabf3cef038a88e78f0b2423ce
SUMMARY:SH Kt. Frühlingsmeisterschaft
DTSTAMP:20150123T184654Z
DESCRIPTION:
X-ALT-DESC;FMTTYPE=text/html:
LOCATION:Breitestrasse, 8252 Schlatt, Thurgau, Schweiz
GEO:47.66047760;8.69879740
X-ACCESS:1
X-MODIFIED:20150123T185107Z
X-HITS:1341
X-URL:
X-COLOR:
END:VEVENT
END:VCALENDAR