BEGIN:VCALENDAR
VERSION:2.0
PRODID:DPCALENDAR
CALSCALE:GREGORIAN
X-WR-TIMEZONE:UTC
BEGIN:VEVENT
DTSTART;VALUE=DATE:20211002
DTEND;VALUE=DATE:20211004
UID:db11c0f6751998e6019c450bbc860b34
SUMMARY:27. Kantonaler Schwyzer Gerätecup
DTSTAMP:20210330T191752Z
DESCRIPTION:
X-ALT-DESC;FMTTYPE=text/html:
LOCATION:Büttikon, Aargau, Schweiz
GEO:47.32845000;8.27139000
X-ACCESS:1
X-MODIFIED:20210409T132917Z
X-HITS:1085
X-URL:
X-COLOR:
END:VEVENT
END:VCALENDAR