BEGIN:VCALENDAR
VERSION:2.0
PRODID:DPCALENDAR
CALSCALE:GREGORIAN
X-WR-TIMEZONE:UTC
BEGIN:VEVENT
DTSTART;VALUE=DATE:20210424
DTEND;VALUE=DATE:20210425
UID:89fe27863774d56bf1f8bb136b0ba3a0
SUMMARY:SH Kantonale Frühlingsmeisterschaften
DTSTAMP:20210330T184738Z
DESCRIPTION:
X-ALT-DESC;FMTTYPE=text/html:
LOCATION:Breitestrasse, 8252 Schlatt, Thurgau, Schweiz
GEO:47.66047760;8.69879740
X-ACCESS:1
X-MODIFIED:20210330T185458Z
X-HITS:760
X-URL:
X-COLOR:
END:VEVENT
END:VCALENDAR