BEGIN:VCALENDAR
VERSION:2.0
PRODID:DPCALENDAR
CALSCALE:GREGORIAN
X-WR-TIMEZONE:UTC
BEGIN:VEVENT
DTSTART;VALUE=DATE:20201128
DTEND;VALUE=DATE:20201130
UID:5b02f310f037cccfcd15cf43a685a24f
SUMMARY:SM Geräteturnen Mannschaft Turnerinnen
DTSTAMP:20191214T110645Z
DESCRIPTION:
X-ALT-DESC;FMTTYPE=text/html:
LOCATION:
X-ACCESS:1
X-MODIFIED:20191214T110744Z
X-HITS:1035
X-URL:
X-COLOR:
END:VEVENT
END:VCALENDAR