BEGIN:VCALENDAR
VERSION:2.0
PRODID:DPCALENDAR
CALSCALE:GREGORIAN
X-WR-TIMEZONE:UTC
BEGIN:VEVENT
DTSTART;VALUE=DATE:20200509
DTEND;VALUE=DATE:20200510
UID:07b9082ab42f426cf223b11233234ac3
SUMMARY:Zuger Getu-Cup Turner
DTSTAMP:20191214T092951Z
DESCRIPTION:
X-ALT-DESC;FMTTYPE=text/html:
LOCATION:
X-ACCESS:1
X-MODIFIED:20191214T093015Z
X-HITS:1092
X-URL:
X-COLOR:
END:VEVENT
END:VCALENDAR