BEGIN:VCALENDAR
VERSION:2.0
PRODID:DPCALENDAR
CALSCALE:GREGORIAN
X-WR-TIMEZONE:UTC
BEGIN:VEVENT
DTSTART;VALUE=DATE:20191109
DTEND;VALUE=DATE:20191111
UID:0bb1bd875e8a72a3632cf0d1dbf00a4d
SUMMARY:SM Geräteturnen Einzeln & Mannschaft Turner
DTSTAMP:20181215T151630Z
DESCRIPTION:
X-ALT-DESC;FMTTYPE=text/html:
LOCATION:Schweiz
X-ACCESS:1
X-MODIFIED:20181215T152151Z
X-HITS:1192
X-URL:
X-COLOR:
END:VEVENT
END:VCALENDAR