BEGIN:VCALENDAR
VERSION:2.0
PRODID:DPCALENDAR
CALSCALE:GREGORIAN
X-WR-TIMEZONE:UTC
BEGIN:VEVENT
DTSTART;VALUE=DATE:20190921
DTEND;VALUE=DATE:20190922
UID:60622bf623e7a13f050026187afa17d8
SUMMARY:26. kantonaler Schwyzer Gerätecup
DTSTAMP:20181215T150950Z
DESCRIPTION:
X-ALT-DESC;FMTTYPE=text/html:
LOCATION:Wollerau, Schwyz, Schweiz
GEO:47.19711380;8.71977600
X-ACCESS:1
X-MODIFIED:20181215T151007Z
X-HITS:1476
X-URL:
X-COLOR:
END:VEVENT
END:VCALENDAR