BEGIN:VCALENDAR
VERSION:2.0
PRODID:DPCALENDAR
CALSCALE:GREGORIAN
X-WR-TIMEZONE:UTC
BEGIN:VEVENT
DTSTART;VALUE=DATE:20180324
DTEND;VALUE=DATE:20180325
UID:c0ab67ab0b0edf718c5c5758fa099e99
SUMMARY:Geräteturntag Linth
DTSTAMP:20170102T190429Z
DESCRIPTION:
X-ALT-DESC;FMTTYPE=text/html:
LOCATION:8730 Uznach, Sankt Gallen, Schweiz
GEO:47.22437220;8.98414170
X-ACCESS:1
X-MODIFIED:20180128T143432Z
X-HITS:1115
X-URL:
X-COLOR:
END:VEVENT
END:VCALENDAR