BEGIN:VCALENDAR
VERSION:2.0
PRODID:DPCALENDAR
CALSCALE:GREGORIAN
X-WR-TIMEZONE:UTC
BEGIN:VEVENT
DTSTART;VALUE=DATE:20181027
DTEND;VALUE=DATE:20181029
UID:3e93fe79edb7c91baa35a8e5da74279e
SUMMARY:SM Geräteturnen Mannschaft Turnerinnen
DTSTAMP:20171208T212424Z
DESCRIPTION:
X-ALT-DESC;FMTTYPE=text/html:
LOCATION:Winterthur, Zürich, Schweiz
GEO:47.49881960;8.72368890
X-ACCESS:1
X-MODIFIED:20171208T212743Z
X-HITS:1133
X-URL:
X-COLOR:
END:VEVENT
END:VCALENDAR