BEGIN:VCALENDAR
VERSION:2.0
PRODID:DPCALENDAR
CALSCALE:GREGORIAN
X-WR-TIMEZONE:UTC
BEGIN:VEVENT
DTSTART;VALUE=DATE:20180216
DTEND;VALUE=DATE:20180217
UID:7b9dd6ec1efcbc3b32af9e4d9cb18fbb
SUMMARY:interner Testwettkampf Geräteturnen
DTSTAMP:20171208T202939Z
DESCRIPTION:
X-ALT-DESC;FMTTYPE=text/html:
LOCATION:Galgenen, Schwyz, Schweiz
GEO:47.18196380;8.87446050
X-ACCESS:1
X-MODIFIED:20171208T213910Z
X-HITS:1131
X-URL:
X-COLOR:
END:VEVENT
END:VCALENDAR