BEGIN:VCALENDAR
VERSION:2.0
PRODID:DPCALENDAR
CALSCALE:GREGORIAN
X-WR-TIMEZONE:UTC
BEGIN:VEVENT
DTSTART;VALUE=DATE:20171111
DTEND;VALUE=DATE:20171113
UID:19bfd9f9cf326e28f5e67b0c8cad6904
SUMMARY:SM Geräteturnen Mannschaft und Einzel Turner
DTSTAMP:20170102T195930Z
DESCRIPTION:
X-ALT-DESC;FMTTYPE=text/html:
LOCATION:Wettingen, Aargau, Schweiz
GEO:47.46595030;8.32659880
X-ACCESS:1
X-MODIFIED:20170102T195958Z
X-HITS:1187
X-URL:
X-COLOR:
END:VEVENT
END:VCALENDAR