BEGIN:VCALENDAR
VERSION:2.0
PRODID:DPCALENDAR
CALSCALE:GREGORIAN
X-WR-TIMEZONE:UTC
BEGIN:VEVENT
DTSTART;VALUE=DATE:20170623
DTEND;VALUE=DATE:20170624
UID:8d79fe75a167835c2c5e40978f7b749f
SUMMARY:Toggenburger Turnfest ( Einzelwettkampf K5-K7 )
DTSTAMP:20170102T195345Z
DESCRIPTION:
X-ALT-DESC;FMTTYPE=text/html:
LOCATION:Wattwil, Sankt Gallen, Schweiz
GEO:47.30312930;9.08806390
X-ACCESS:1
X-MODIFIED:20170102T195438Z
X-HITS:1012
X-URL:
X-COLOR:
END:VEVENT
END:VCALENDAR