BEGIN:VCALENDAR
VERSION:2.0
PRODID:DPCALENDAR
CALSCALE:GREGORIAN
X-WR-TIMEZONE:UTC
BEGIN:VEVENT
DTSTART;VALUE=DATE:20170506
DTEND;VALUE=DATE:20170507
UID:531555bcad07e8e05f28dd32d7f8ccee
SUMMARY:29. Zuger Getu-Cup Turner
DTSTAMP:20170102T191129Z
DESCRIPTION:
X-ALT-DESC;FMTTYPE=text/html:
LOCATION:Steinhausen, Zug, Schweiz
GEO:47.19719300;8.48501730
X-ACCESS:1
X-MODIFIED:20170102T191201Z
X-HITS:1368
X-URL:
X-COLOR:
END:VEVENT
END:VCALENDAR