BEGIN:VCALENDAR
VERSION:2.0
PRODID:DPCALENDAR
CALSCALE:GREGORIAN
X-WR-TIMEZONE:UTC
BEGIN:VEVENT
DTSTART;VALUE=DATE:20170401
DTEND;VALUE=DATE:20170402
UID:6baa0f9b32ca47d7713c5f291150c7c8
SUMMARY:Geräteturntag Linth		
DTSTAMP:20170102T190429Z
DESCRIPTION:
X-ALT-DESC;FMTTYPE=text/html:
LOCATION:8730 Uznach, Sankt Gallen, Schweiz
GEO:47.22437220;8.98414170
X-ACCESS:1
X-MODIFIED:20170102T204758Z
X-HITS:1103
X-URL:
X-COLOR:
END:VEVENT
END:VCALENDAR