BEGIN:VCALENDAR
VERSION:2.0
PRODID:DPCALENDAR
CALSCALE:GREGORIAN
X-WR-TIMEZONE:UTC
BEGIN:VEVENT
DTSTART;VALUE=DATE:20161119
DTEND;VALUE=DATE:20161121
UID:d58541143436d771ded56950b2b269c2
SUMMARY:SM Geräteturnen Einzeln Turnerinnen
DTSTAMP:20151226T203037Z
DESCRIPTION:
X-ALT-DESC;FMTTYPE=text/html:
LOCATION:Sitten, Wallis, Schweiz
GEO:46.23312210;7.36062600
X-ACCESS:1
X-MODIFIED:20151226T205355Z
X-HITS:1271
X-URL:
X-COLOR:
END:VEVENT
END:VCALENDAR