BEGIN:VCALENDAR
VERSION:2.0
PRODID:DPCALENDAR
CALSCALE:GREGORIAN
X-WR-TIMEZONE:UTC
BEGIN:VEVENT
DTSTART;VALUE=DATE:20161112
DTEND;VALUE=DATE:20161114
UID:b0f63abeeec5ec2d31c553f0936194d2
SUMMARY:SM Geräteturnen Mannschaft und Einzeln Turner
DTSTAMP:20151226T202841Z
DESCRIPTION:
X-ALT-DESC;FMTTYPE=text/html:
LOCATION:Solothurn, Solothurn, Schweiz
GEO:47.20883480;7.53229100
X-ACCESS:1
X-MODIFIED:20151226T205344Z
X-HITS:1408
X-URL:
X-COLOR:
END:VEVENT
END:VCALENDAR