BEGIN:VCALENDAR
VERSION:2.0
PRODID:DPCALENDAR
CALSCALE:GREGORIAN
X-WR-TIMEZONE:UTC
BEGIN:VEVENT
DTSTART;VALUE=DATE:20161029
DTEND;VALUE=DATE:20161031
UID:4a6b48b670ba887093e3d49c9f8b381d
SUMMARY:SM Geräteturnen Mannschaft Turnerinnen
DTSTAMP:20151226T202608Z
DESCRIPTION:
X-ALT-DESC;FMTTYPE=text/html:
LOCATION:Kirchberg, Sankt Gallen, Schweiz
GEO:47.41135330;9.04018190
X-ACCESS:1
X-MODIFIED:20151226T205329Z
X-HITS:1359
X-URL:
X-COLOR:
END:VEVENT
END:VCALENDAR