BEGIN:VCALENDAR
VERSION:2.0
PRODID:DPCALENDAR
CALSCALE:GREGORIAN
X-WR-TIMEZONE:UTC
BEGIN:VEVENT
DTSTART;VALUE=DATE:20160827
DTEND;VALUE=DATE:20160828
UID:46731cf2a6f3533f829217262e834b62
SUMMARY:Appenzeller GETU Kt. Meisterschaft
DTSTAMP:20151226T182712Z
DESCRIPTION:
X-ALT-DESC;FMTTYPE=text/html:
LOCATION:Gais, Appenzell Ausserrhoden, Schweiz
GEO:47.36215310;9.45244570
X-ACCESS:1
X-MODIFIED:20151226T205141Z
X-HITS:1415
X-URL:
X-COLOR:
END:VEVENT
END:VCALENDAR