BEGIN:VCALENDAR
VERSION:2.0
PRODID:DPCALENDAR
CALSCALE:GREGORIAN
X-WR-TIMEZONE:UTC
BEGIN:VEVENT
DTSTART;VALUE=DATE:20160604
DTEND;VALUE=DATE:20160606
UID:1927a7805e2a3be58e6e285d02102297
SUMMARY:Gotthard Cup
DTSTAMP:20151226T181751Z
DESCRIPTION:
X-ALT-DESC;FMTTYPE=text/html:
LOCATION:Altdorf, Uri, Schweiz
GEO:46.88212720;8.64284360
X-ACCESS:1
X-MODIFIED:20151226T205509Z
X-HITS:1458
X-URL:
X-COLOR:
END:VEVENT
END:VCALENDAR