BEGIN:VCALENDAR
VERSION:2.0
PRODID:DPCALENDAR
CALSCALE:GREGORIAN
X-WR-TIMEZONE:UTC
BEGIN:VEVENT
DTSTART;VALUE=DATE:20160502
DTEND;VALUE=DATE:20160507
UID:aa2267faa3f5e48e12c0313770dc6c26
SUMMARY:Internes Trainingslager
DTSTAMP:20151226T180805Z
DESCRIPTION:
X-ALT-DESC;FMTTYPE=text/html:
LOCATION:Galgenen, Schwyz, Schweiz
GEO:47.18196380;8.87446050
X-ACCESS:1
X-MODIFIED:20151226T210543Z
X-HITS:1202
X-URL:
X-COLOR:
END:VEVENT
END:VCALENDAR