BEGIN:VCALENDAR
VERSION:2.0
PRODID:DPCALENDAR
CALSCALE:GREGORIAN
X-WR-TIMEZONE:UTC
BEGIN:VEVENT
DTSTART;VALUE=DATE:20160328
DTEND;VALUE=DATE:20160329
UID:cf44b6c89d417577b7318ead0da22306
SUMMARY:Geräteturntag Linth
DTSTAMP:20151226T175737Z
DESCRIPTION:
X-ALT-DESC;FMTTYPE=text/html:
LOCATION:Kaltbrunn, Sankt Gallen, Schweiz
GEO:47.21331360;9.02507320
X-ACCESS:1
X-MODIFIED:20151226T204642Z
X-HITS:1216
X-URL:
X-COLOR:
END:VEVENT
END:VCALENDAR