BEGIN:VCALENDAR
VERSION:2.0
PRODID:DPCALENDAR
CALSCALE:GREGORIAN
X-WR-TIMEZONE:UTC
BEGIN:VEVENT
DTSTART;VALUE=DATE:20160319
DTEND;VALUE=DATE:20160320
UID:d9284679e8faef78e80c86d0da7759f6
SUMMARY:ATV Geräteturntag / Jugendgerätewettkampf
DTSTAMP:20151226T175424Z
DESCRIPTION:
X-ALT-DESC;FMTTYPE=text/html:
LOCATION:Wald, Zürich, Schweiz
GEO:47.27713750;8.91556080
X-ACCESS:1
X-MODIFIED:20151226T205531Z
X-HITS:1089
X-URL:
X-COLOR:
END:VEVENT
END:VCALENDAR