BEGIN:VCALENDAR
VERSION:2.0
PRODID:DPCALENDAR
CALSCALE:GREGORIAN
X-WR-TIMEZONE:UTC
BEGIN:VEVENT
DTSTART;VALUE=DATE:20230607
DTEND;VALUE=DATE:20230608
UID:5aa233bd0f60a9f21d7fa48ebbac7d44
SUMMARY:35. Abendmeeting
DTSTAMP:20221202T211627Z
DESCRIPTION:
X-ALT-DESC;FMTTYPE=text/html:
LOCATION:Freienbach, Schwyz, Schweiz
GEO:47.20442780;8.75593230
X-ACCESS:1
X-MODIFIED:20221214T084621Z
X-HITS:663
X-URL:
X-COLOR:
END:VEVENT
END:VCALENDAR