BEGIN:VCALENDAR
VERSION:2.0
PRODID:DPCALENDAR
CALSCALE:GREGORIAN
X-WR-TIMEZONE:UTC
BEGIN:VEVENT
DTSTART;VALUE=DATE:20230520
DTEND;VALUE=DATE:20230522
UID:add0831db887e1ee4f04a56381443963
SUMMARY:MEER-kampfmeeting (blub blub)
DTSTAMP:20221202T211146Z
DESCRIPTION:
X-ALT-DESC;FMTTYPE=text/html:
LOCATION:Landquart, Graubünden, Schweiz
GEO:46.96730860;9.56267480
X-ACCESS:1
X-MODIFIED:20221202T211231Z
X-HITS:632
X-URL:
X-COLOR:
END:VEVENT
END:VCALENDAR