BEGIN:VCALENDAR
VERSION:2.0
PRODID:DPCALENDAR
CALSCALE:GREGORIAN
X-WR-TIMEZONE:UTC
BEGIN:VEVENT
DTSTART;VALUE=DATE:20230401
DTEND;VALUE=DATE:20230402
UID:d6505516f8743cfe140b73a58fc3b916
SUMMARY:Papiersammlung
DTSTAMP:20221202T210313Z
DESCRIPTION:
X-ALT-DESC;FMTTYPE=text/html:
LOCATION:Galgenen, Schwyz, Schweiz
GEO:47.18196380;8.87446050
X-ACCESS:1
X-MODIFIED:20221219T203313Z
X-HITS:605
X-URL:
X-COLOR:
END:VEVENT
END:VCALENDAR