BEGIN:VCALENDAR
VERSION:2.0
PRODID:DPCALENDAR
CALSCALE:GREGORIAN
X-WR-TIMEZONE:UTC
BEGIN:VEVENT
DTSTART;VALUE=DATE:20221231
DTEND;VALUE=DATE:20230101
UID:b95082130de42fc3da5ddaf2f87181ae
SUMMARY:Schliessungsmeeting
DTSTAMP:20220115T163658Z
DESCRIPTION:
X-ALT-DESC;FMTTYPE=text/html:
LOCATION:Wald, Zürich, Schweiz
GEO:47.27713750;8.91556080
X-ACCESS:1
X-MODIFIED:20220115T165724Z
X-HITS:865
X-URL:
X-COLOR:
END:VEVENT
END:VCALENDAR