BEGIN:VCALENDAR
VERSION:2.0
PRODID:DPCALENDAR
CALSCALE:GREGORIAN
X-WR-TIMEZONE:UTC
BEGIN:VEVENT
DTSTART;VALUE=DATE:20220409
DTEND;VALUE=DATE:20220410
UID:b89e8aa167cbaa8ba01b48c12530cc9a
SUMMARY:Quer durch Zug
DTSTAMP:20220115T162629Z
DESCRIPTION:
X-ALT-DESC;FMTTYPE=text/html:
LOCATION:Zug, Zug, Schweiz
GEO:47.17458870;8.51385400
X-ACCESS:1
X-MODIFIED:20220115T163034Z
X-HITS:688
X-URL:
X-COLOR:
END:VEVENT
END:VCALENDAR