BEGIN:VCALENDAR
VERSION:2.0
PRODID:DPCALENDAR
CALSCALE:GREGORIAN
X-WR-TIMEZONE:UTC
BEGIN:VEVENT
DTSTART;VALUE=DATE:20200829
DTEND;VALUE=DATE:20200831
UID:011ccc4d8ce53f688d316b22ddf4b77f
SUMMARY:Schweizerfinal LMM Meisterschaften
DTSTAMP:20191214T101243Z
DESCRIPTION:
X-ALT-DESC;FMTTYPE=text/html:
LOCATION:
X-ACCESS:1
X-MODIFIED:20191214T101408Z
X-HITS:1231
X-URL:
X-COLOR:
END:VEVENT
END:VCALENDAR