BEGIN:VCALENDAR
VERSION:2.0
PRODID:DPCALENDAR
CALSCALE:GREGORIAN
X-WR-TIMEZONE:UTC
BEGIN:VEVENT
DTSTART;VALUE=DATE:20200626
DTEND;VALUE=DATE:20200628
UID:e4d9267aea99d1e6fcde8476f122e5db
SUMMARY:SM Aktive
DTSTAMP:20191214T094611Z
DESCRIPTION:
X-ALT-DESC;FMTTYPE=text/html:
LOCATION:
X-ACCESS:1
X-MODIFIED:20191214T094657Z
X-HITS:1092
X-URL:
X-COLOR:
END:VEVENT
END:VCALENDAR