BEGIN:VCALENDAR
VERSION:2.0
PRODID:DPCALENDAR
CALSCALE:GREGORIAN
X-WR-TIMEZONE:UTC
BEGIN:VEVENT
DTSTART;VALUE=DATE:20200613
DTEND;VALUE=DATE:20200615
UID:4407004f2a0c02f9f5a2ce6ec09c76d8
SUMMARY:Seeländisches Turnfest
DTSTAMP:20191214T093953Z
DESCRIPTION:
X-ALT-DESC;FMTTYPE=text/html:
LOCATION:
X-ACCESS:1
X-MODIFIED:20191214T094037Z
X-HITS:1066
X-URL:
X-COLOR:
END:VEVENT
END:VCALENDAR