BEGIN:VCALENDAR
VERSION:2.0
PRODID:DPCALENDAR
CALSCALE:GREGORIAN
X-WR-TIMEZONE:UTC
BEGIN:VEVENT
DTSTART;VALUE=DATE:20200327
DTEND;VALUE=DATE:20200328
UID:34d2354ce38c59f1a6bb2c01a28baa33
SUMMARY:28. KSTV Unihockey Meisterschaft
DTSTAMP:20191214T091932Z
DESCRIPTION:
X-ALT-DESC;FMTTYPE=text/html:
LOCATION:Einsiedeln, Schwyz, Schweiz
GEO:47.12811610;8.74426900
X-ACCESS:1
X-MODIFIED:20191214T171327Z
X-HITS:1104
X-URL:
X-COLOR:
END:VEVENT
END:VCALENDAR