BEGIN:VCALENDAR
VERSION:2.0
PRODID:DPCALENDAR
CALSCALE:GREGORIAN
X-WR-TIMEZONE:UTC
BEGIN:VEVENT
DTSTART;VALUE=DATE:20181201
DTEND;VALUE=DATE:20181202
UID:2f36df56a1c03a955a5e2a64f62570cb
SUMMARY:Papiersammlung im Dorf!
DTSTAMP:20171208T213011Z
DESCRIPTION:
X-ALT-DESC;FMTTYPE=text/html:
LOCATION:Ruchweiden, 8854 Galgenen, Schwyz, Schweiz
GEO:47.15621920;8.86009400
X-ACCESS:1
X-MODIFIED:20171208T213305Z
X-HITS:1258
X-URL:
X-COLOR:
END:VEVENT
END:VCALENDAR