BEGIN:VCALENDAR
VERSION:2.0
PRODID:DPCALENDAR
CALSCALE:GREGORIAN
X-WR-TIMEZONE:UTC
BEGIN:VEVENT
DTSTART;VALUE=DATE:20180323
DTEND;VALUE=DATE:20180324
UID:7549b3af341b7eeea066ce4623fcb633
SUMMARY:27. KSTV Unihockeymeisterschaft
DTSTAMP:20171208T203954Z
DESCRIPTION:
X-ALT-DESC;FMTTYPE=text/html:
LOCATION:8808 Freienbach, Schwyz, Schweiz
GEO:47.20142070;8.77772410
X-ACCESS:1
X-MODIFIED:20180128T143133Z
X-HITS:1178
X-URL:
X-COLOR:
END:VEVENT
END:VCALENDAR