BEGIN:VCALENDAR
VERSION:2.0
PRODID:DPCALENDAR
CALSCALE:GREGORIAN
X-WR-TIMEZONE:UTC
BEGIN:VEVENT
DTSTART;VALUE=DATE:20170624
DTEND;VALUE=DATE:20170626
UID:be7e3059b8101ba3d35d0eb35d2de986
SUMMARY:Toggenburger Turnfest ( Vereinswettkampf )
DTSTAMP:20170102T195507Z
DESCRIPTION:
X-ALT-DESC;FMTTYPE=text/html:
LOCATION:Wattwil, Sankt Gallen, Schweiz
GEO:47.30312930;9.08806390
X-ACCESS:1
X-MODIFIED:20170102T210520Z
X-HITS:1150
X-URL:
X-COLOR:
END:VEVENT
END:VCALENDAR