BEGIN:VCALENDAR
VERSION:2.0
PRODID:DPCALENDAR
CALSCALE:GREGORIAN
X-WR-TIMEZONE:UTC
BEGIN:VEVENT
DTSTART;VALUE=DATE:20170826
DTEND;VALUE=DATE:20170828
UID:25e78674d7c6c3aabf0e248a5b6387ef
SUMMARY:SM Mehrkampf Aktive
DTSTAMP:20170102T193535Z
DESCRIPTION:
X-ALT-DESC;FMTTYPE=text/html:
LOCATION:Payerne, Waadt, Schweiz
GEO:46.82202660;6.94056630
X-ACCESS:1
X-MODIFIED:20170102T193658Z
X-HITS:1262
X-URL:
X-COLOR:
END:VEVENT
END:VCALENDAR