BEGIN:VCALENDAR
VERSION:2.0
PRODID:DPCALENDAR
CALSCALE:GREGORIAN
X-WR-TIMEZONE:UTC
BEGIN:VEVENT
DTSTART;VALUE=DATE:20170506
DTEND;VALUE=DATE:20170507
UID:78f4164793ab7c37b8cff6e97a7b94ad
SUMMARY:Trainingstag 		
DTSTAMP:20170102T191048Z
DESCRIPTION:
X-ALT-DESC;FMTTYPE=text/html:
LOCATION:8854 Siebnen, Schwyz, Schweiz
GEO:47.17449480;8.89717600
X-ACCESS:1
X-MODIFIED:20170121T090508Z
X-HITS:1118
X-URL:
X-COLOR:
END:VEVENT
END:VCALENDAR