BEGIN:VCALENDAR
VERSION:2.0
PRODID:DPCALENDAR
CALSCALE:GREGORIAN
X-WR-TIMEZONE:UTC
BEGIN:VEVENT
DTSTART;VALUE=DATE:20170408
DTEND;VALUE=DATE:20170409
UID:1156847260e0744fdbae099e434405c5
SUMMARY:Papiersammlung		
DTSTAMP:20170102T190600Z
DESCRIPTION:
X-ALT-DESC;FMTTYPE=text/html:
LOCATION:Galgenen, Schwyz, Schweiz
GEO:47.18196380;8.87446050
X-ACCESS:1
X-MODIFIED:20170102T190611Z
X-HITS:1043
X-URL:
X-COLOR:
END:VEVENT
END:VCALENDAR