BEGIN:VCALENDAR
VERSION:2.0
PRODID:DPCALENDAR
CALSCALE:GREGORIAN
X-WR-TIMEZONE:UTC
BEGIN:VEVENT
DTSTART;VALUE=DATE:20170218
DTEND;VALUE=DATE:20170220
UID:83952fe9e0f6721c51a353a4d7c18f8d
SUMMARY:Hallen SM-Aktive		
DTSTAMP:20170102T173712Z
DESCRIPTION:
X-ALT-DESC;FMTTYPE=text/html:
LOCATION:Leubringen, Bern, Schweiz
GEO:47.14949790;7.23800750
X-ACCESS:1
X-MODIFIED:20170102T185326Z
X-HITS:1073
X-URL:
X-COLOR:
END:VEVENT
END:VCALENDAR