BEGIN:VCALENDAR
VERSION:2.0
PRODID:DPCALENDAR
CALSCALE:GREGORIAN
X-WR-TIMEZONE:UTC
BEGIN:VEVENT
DTSTART;VALUE=DATE:20160521
DTEND;VALUE=DATE:20160522
UID:806ead31d1dcd0aa176e2e3e5004a73b
SUMMARY:Moränen Cup
DTSTAMP:20160213T173956Z
DESCRIPTION:
X-ALT-DESC;FMTTYPE=text/html:
LOCATION:Menzingen, Zug, Schweiz
GEO:47.17788310;8.59124830
X-ACCESS:1
X-MODIFIED:20160214T170725Z
X-HITS:1685
X-URL:
X-COLOR:
END:VEVENT
END:VCALENDAR