BEGIN:VCALENDAR
VERSION:2.0
PRODID:DPCALENDAR
CALSCALE:GREGORIAN
X-WR-TIMEZONE:UTC
BEGIN:VEVENT
DTSTART;VALUE=DATE:20160917
DTEND;VALUE=DATE:20160918
UID:7c5ed22bfa5f15be7efa9b9a8ffea153
SUMMARY:SM Steinstossen
DTSTAMP:20151226T201657Z
DESCRIPTION:
X-ALT-DESC;FMTTYPE=text/html:
LOCATION:Kaltbrunn, Sankt Gallen, Schweiz
GEO:47.21331360;9.02507320
X-ACCESS:1
X-MODIFIED:20151226T205242Z
X-HITS:1359
X-URL:
X-COLOR:
END:VEVENT
END:VCALENDAR