BEGIN:VCALENDAR
VERSION:2.0
PRODID:DPCALENDAR
CALSCALE:GREGORIAN
X-WR-TIMEZONE:UTC
BEGIN:VEVENT
DTSTART;VALUE=DATE:20160715
DTEND;VALUE=DATE:20160717
UID:96eec4989a320650762f098f82633630
SUMMARY:SM Einzeln
DTSTAMP:20151226T182256Z
DESCRIPTION:
X-ALT-DESC;FMTTYPE=text/html:
LOCATION:Genf, Genf, Schweiz
GEO:46.20439070;6.14315770
X-ACCESS:1
X-MODIFIED:20151226T205106Z
X-HITS:1265
X-URL:
X-COLOR:
END:VEVENT
END:VCALENDAR