BEGIN:VCALENDAR
VERSION:2.0
PRODID:DPCALENDAR
CALSCALE:GREGORIAN
X-WR-TIMEZONE:UTC
BEGIN:VEVENT
DTSTART;VALUE=DATE:20160625
DTEND;VALUE=DATE:20160627
UID:ac40170155541e3725f746d8ade706ae
SUMMARY:Regionalturnfest AZO
DTSTAMP:20151226T182119Z
DESCRIPTION:
X-ALT-DESC;FMTTYPE=text/html:
LOCATION:Wetzikon, Zürich, Schweiz
GEO:47.32706020;8.80135600
X-ACCESS:1
X-MODIFIED:20151226T204946Z
X-HITS:1510
X-URL:
X-COLOR:
END:VEVENT
END:VCALENDAR