BEGIN:VCALENDAR
VERSION:2.0
PRODID:DPCALENDAR
CALSCALE:GREGORIAN
X-WR-TIMEZONE:UTC
BEGIN:VEVENT
DTSTART;VALUE=DATE:20160618
DTEND;VALUE=DATE:20160620
UID:c6f6bff84cdbd0d0f566ed49c833f448
SUMMARY:Regionalturnfest AZO (Einzelwettkampf)
DTSTAMP:20151226T182041Z
DESCRIPTION:
X-ALT-DESC;FMTTYPE=text/html:
LOCATION:Wetzikon, Zürich, Schweiz
GEO:47.32706020;8.80135600
X-ACCESS:1
X-MODIFIED:20151226T204933Z
X-HITS:1254
X-URL:
X-COLOR:
END:VEVENT
END:VCALENDAR