BEGIN:VCALENDAR
VERSION:2.0
PRODID:DPCALENDAR
CALSCALE:GREGORIAN
X-WR-TIMEZONE:UTC
BEGIN:VEVENT
DTSTART;VALUE=DATE:20160611
DTEND;VALUE=DATE:20160613
UID:f89b36fd0aeba80c44265b0138c899e6
SUMMARY:Bündner Kantonalturnfest
DTSTAMP:20151226T181858Z
DESCRIPTION:
X-ALT-DESC;FMTTYPE=text/html:
LOCATION:Thusis, Graubünden, Schweiz
GEO:46.69601410;9.43949400
X-ACCESS:1
X-MODIFIED:20151226T204904Z
X-HITS:1333
X-URL:
X-COLOR:
END:VEVENT
END:VCALENDAR