BEGIN:VCALENDAR
VERSION:2.0
PRODID:DPCALENDAR
CALSCALE:GREGORIAN
X-WR-TIMEZONE:UTC
BEGIN:VEVENT
DTSTART;VALUE=DATE:20160508
DTEND;VALUE=DATE:20160509
UID:4db60676c2349843aa43a8de014835bb
SUMMARY:STV Pendelstafetten Meisterschaft
DTSTAMP:20151226T181116Z
DESCRIPTION:
X-ALT-DESC;FMTTYPE=text/html:
LOCATION:Naters, Wallis, Schweiz
GEO:46.32392820;7.99165690
X-ACCESS:1
X-MODIFIED:20151226T204804Z
X-HITS:1201
X-URL:
X-COLOR:
END:VEVENT
END:VCALENDAR