BEGIN:VCALENDAR
VERSION:2.0
PRODID:DPCALENDAR
CALSCALE:GREGORIAN
X-WR-TIMEZONE:UTC
BEGIN:VEVENT
DTSTART;VALUE=DATE:20160318
DTEND;VALUE=DATE:20160319
UID:882263462d380bb7ada9df92817effd5
SUMMARY:25. KSTV Unihockeymeisterschaft
DTSTAMP:20151226T175246Z
DESCRIPTION:
X-ALT-DESC;FMTTYPE=text/html:
LOCATION:8808 Freienbach, Schwyz, Schweiz
GEO:47.20142070;8.77772410
X-ACCESS:1
X-MODIFIED:20151226T204501Z
X-HITS:1138
X-URL:
X-COLOR:
END:VEVENT
END:VCALENDAR