BEGIN:VCALENDAR
VERSION:2.0
PRODID:DPCALENDAR
CALSCALE:GREGORIAN
X-WR-TIMEZONE:UTC
BEGIN:VEVENT
DTSTART;VALUE=DATE:20250619
DTEND;VALUE=DATE:20250623
UID:69e452085f458cf62b14ed1ca5f65261
SUMMARY:ETF Lausanne Aktive
DTSTAMP:20250101T195144Z
DESCRIPTION:
X-ALT-DESC;FMTTYPE=text/html:
LOCATION:Lausanne, Waadt, Schweiz
GEO:46.51996170;6.63359710
X-ACCESS:1
X-MODIFIED:20250308T203359Z
X-HITS:419
X-URL:
X-COLOR:
END:VEVENT
END:VCALENDAR