BEGIN:VCALENDAR
VERSION:2.0
PRODID:DPCALENDAR
CALSCALE:GREGORIAN
X-WR-TIMEZONE:UTC
BEGIN:VEVENT
DTSTART;VALUE=DATE:20240622
DTEND;VALUE=DATE:20240624
UID:04e42c25b61b98d89eb96c89d8ae8018
SUMMARY:Schwyzer Kantonalturnfest ( Vereinswettkampf Erwachsene )
DTSTAMP:20231226T173454Z
DESCRIPTION:
X-ALT-DESC;FMTTYPE=text/html:
LOCATION:Einsiedeln, Schwyz, Schweiz
GEO:47.12811610;8.74426900
X-ACCESS:1
X-MODIFIED:20240108T084601Z
X-HITS:584
X-URL:
X-COLOR:
END:VEVENT
END:VCALENDAR