BEGIN:VCALENDAR
VERSION:2.0
PRODID:DPCALENDAR
CALSCALE:GREGORIAN
X-WR-TIMEZONE:UTC
BEGIN:VEVENT
DTSTART;VALUE=DATE:20230513
DTEND;VALUE=DATE:20230514
UID:5d127b2cfdedecadbddac47ac0031add
SUMMARY:2. KSTV Vergleichswettkampf FTA
DTSTAMP:20221214T084341Z
DESCRIPTION:
X-ALT-DESC;FMTTYPE=text/html:
LOCATION:8858 Innerthal, Schwyz, Schweiz
GEO:47.10000000;8.88333330
X-ACCESS:1
X-MODIFIED:20221214T084403Z
X-HITS:684
X-URL:
X-COLOR:
END:VEVENT
END:VCALENDAR