BEGIN:VCALENDAR
VERSION:2.0
PRODID:DPCALENDAR
CALSCALE:GREGORIAN
X-WR-TIMEZONE:UTC
BEGIN:VEVENT
DTSTART;VALUE=DATE:20230624
DTEND;VALUE=DATE:20230626
UID:d822cb670993c5b6960dcc5c3058e6c1
SUMMARY:Toggenburger Turnfest
DTSTAMP:20221202T212352Z
DESCRIPTION:
X-ALT-DESC;FMTTYPE=text/html:
LOCATION:
X-ACCESS:1
X-MODIFIED:20221202T212409Z
X-HITS:605
X-URL:
X-COLOR:
END:VEVENT
END:VCALENDAR